BEGIN:VCALENDAR
VERSION:2.0
PRODID:-//Sanctuary of the 13 Moon Mystery School//Events//EN
CALSCALE:GREGORIAN
BEGIN:VEVENT
DTSTAMP:20260425T151626Z
DTSTART;TZID=America/Los_Angeles:20220525T120000
DTEND;TZID=America/Los_Angeles:20220525T130000
UID:69ecdacaedd8c
SUMMARY:Community Luminary Rachel Adair Dawson
LOCATION:
DESCRIPTION:COMMUNITY LUMINARIES:
RACHEL ADAIR DAWSON ~ THE SACRED TOOL OF THE SWORD AND HAND CRAFTING A SHEATH FOR YOUR SWORD!
Wednesday, May 25th at Noon PST
Dear ones,
Please join us for a focus on the sacred tool of the sword with Rachel Adair Dawson and Ariel, deepening with the use of the sword as a sacred Priest/ess offering. Rachel will be demonstrating the step by step process of creating a sheath for your sacred sword. What is the 13 Moon Lineage tradition around the sword and it’s use in initiation? In this inquiry, we will be looking at the issue of power and how we use our innate power. We will also be deepening in the use of the sword in initiatory processes. We will be inquiring into these and other aspects of the sword together on this Community Luminary call on Wednesday May 25th at Noon pacific.
Please join us on Wednesday, May 25th at Noon for this amazing offering!
END:VEVENT
END:VCALENDAR