BEGIN:VCALENDAR
VERSION:2.0
PRODID:-//Sanctuary of the 13 Moon Mystery School//Events//EN
CALSCALE:GREGORIAN
BEGIN:VEVENT
DTSTAMP:20260425T150214Z
DTSTART;TZID=America/Los_Angeles:20220305T120000
DTEND;TZID=America/Los_Angeles:20220305T130000
UID:69ecd776e7a1b
SUMMARY:Mystery Mirabilis
LOCATION:
DESCRIPTION:Dear ones,  Have you always searched for the deeper meaning in things?
 
Do you wonder about the larger patterns and how everything fits together?
 
 Where do you have a place to bounce the Mystery around in a circle of magical beings?
 
In Mystery Mirabilis, we offer a supportive container to explore the mysteries of consciousness together. In the Feminine, it is understood that you cannot grasp the Mystery, since it is a flowing wholeness. So we move beyond simply getting answers. In these circles we are actually practicing the art of how to hold the Mystery, strengthening the attitudes that allow for the Mystery to freely reveal itself to you. Mystery Mirabilis is an incredible opportunity to practice holographic aerobics through playing with conundrums in consciousness and investigating the mysterious. Bring your mysteries to share! Come Play!
 
(These live circles are supportive of the Sanctuary Instagram page, where you can play the Mystery Mirabilis game of responding to the mystery questions for points toward a prize. Sounds fun? If so, join us on Friday, December 24 at Noon Pacific. (Accruing points towards a free deck of her Consciousness Koan Cards!) Mostly, we just want you to have fun playing with consciousness and deepening with the Mystery!
Join us on Saturday, March 5, 2022 at Noon Pacific
In delight, Ariel
END:VEVENT
END:VCALENDAR