BEGIN:VCALENDAR
VERSION:2.0
PRODID:-//Sanctuary of the 13 Moon Mystery School//Events//EN
CALSCALE:GREGORIAN
BEGIN:VEVENT
DTSTAMP:20260419T153946Z
DTSTART;TZID=America/Los_Angeles:20240613T120000
DTEND;TZID=America/Los_Angeles:20240613T130000
UID:69e4f74253240
SUMMARY:13 Moon Divination Zoom Call
LOCATION:https://us02web.zoom.us/j/859940831
DESCRIPTION:A 13 MOON DIVINATION TOGETHER ONCE A MOON! Dear Ones, This zoom call offering is an opportunity to connect with each other around a-once-a- moon 13 Moon Oracle Divination/reading that we will draw and interpret together! There has been an expressed interest in creating a way to deepen as a community with The 13 Moon Oracle, to use it as an overview divination for that moon. If that sounds like delightful fun for you, please join us on Thursday, June 13th at noon pst for our voyage of this adventure!!   In Devotion.. ariel JOIN US ON THURSDAY, JUNE 13TH AT NOON PST
END:VEVENT
END:VCALENDAR