BEGIN:VCALENDAR
VERSION:2.0
PRODID:-//Sanctuary of the 13 Moon Mystery School//Events//EN
CALSCALE:GREGORIAN
BEGIN:VEVENT
DTSTAMP:20260420T164623Z
DTSTART;TZID=America/Los_Angeles:20241022T170000
DTEND;TZID=America/Los_Angeles:20241022T180000
UID:69e6585f8505f
SUMMARY:NEW OFFERING: Getting to Know You: Re-tuning An Oasis Station - A Spotlight on Sanctuary Members
LOCATION:https://us02web.zoom.us/j/89775853661
DESCRIPTION:Dear Sanctuary Family, We are delighted to introduce a new (ZOOM CALL)&nbsp;that celebrates the heart and soul of our community – the incredible members of the Sanctuary of the Open Heart. As a planetary community, our membership is incredibly diverse and unique, united by a shared reverence for the Divine Feminine within us all. Our core values of devotion, service, compassion, and Love Eternal bind us together in a tapestry of mythic and archetypal consciousness. To deepen our heart connections and foster a more intimate understanding of one another, we are excited to launch a monthly spotlight on one of our extraordinary members. This new feature will shine a light on the beautiful, individual expressions that make up our Light Family We will be offering: “Getting to Know You: An Oasis and Re-Tune Station. This will start this moon with an interview of one of our amazing members GLORIA PARK and then become an open meeting place to create a sanctuary for shared expression, guided by questions designed to connect our hearts and help us appreciate each other in a more personal, interactive way. Does this sound intriguing? We warmly invite you to join us for our inaugural “Getting to Know You” session on Tuesday, October 22nd&nbsp;at 5pm pacific. With love and gratitude, The Sanctuary of the Open Heart
END:VEVENT
END:VCALENDAR