BEGIN:VCALENDAR
VERSION:2.0
PRODID:-//Sanctuary of the 13 Moon Mystery School//Events//EN
CALSCALE:GREGORIAN
BEGIN:VEVENT
DTSTAMP:20260423T114220Z
DTSTART;TZID=America/Los_Angeles:20241218T120000
DTEND;TZID=America/Los_Angeles:20241218T130000
UID:69ea059c248bf
SUMMARY:Post Transmission Reflection Circle “SHE WHO REVEALS HIDDEN BEAUTY”
LOCATION:https://us02web.zoom.us/j/771504568
DESCRIPTION:A moonly virtual circle for those who feel a call and have a desire to deepen with Ariel’s FULL MOON holographic transmission, to ask questions, and to share reflections and creativity that has come from it. THESE ARE DEEP ALCHEMICAL, MEDITATIONAL DIVES..THAT OFFER AN OPPORTUNITY TO EXPAND AND CATALYZE YOUR AWARENESS, VIBRATION AND CREATIVITY. People often set time aside for after the call to dive right into creative pursuits from the expanded soul perspective that is opened up in these sessions!
An email invitation will be sent out for each of the Post Transmission Reflection Circles!
Join us on Wednesday, December 18th, 2024 at Noon Pacific
END:VEVENT
END:VCALENDAR