BEGIN:VCALENDAR
VERSION:2.0
PRODID:-//Sanctuary of the 13 Moon Mystery School//Events//EN
CALSCALE:GREGORIAN
BEGIN:VEVENT
DTSTAMP:20260420T084938Z
DTSTART;TZID=America/Los_Angeles:20260325T120000
DTEND;TZID=America/Los_Angeles:20260325T130000
UID:69e5e8a2df74d
SUMMARY:COMMUNITY LUMINARIES: GABE MARIHUGH — THE GOLD THREAD: RECLAIMING BUSINESS AS A SACRED PATH
LOCATION:https://us02web.zoom.us/j/84900531000
DESCRIPTION:JOIN US FOR COMMUNITY LUMINARIES: GABE MARIHUGH — THE GOLD THREAD: RECLAIMING BUSINESS AS A SACRED PATH MARK YOUR CALENDARS
WEDNESDAY, MARCH 25, 2026 AT 12PM PST
Dear Beloved Community,
  Gabriel Marihugh is the author of The Gold Thread: Reclaiming Business as a Sacred Path. His 1:1 work helps teachers, coaches, healers, creative professionals, and other solopreneurs uncover the living story at the heart of their work and use it to build connection-first businesses. Instead of starting with metrics, funnels, and persuasion, he guides people to begin with their deeper mythic pattern, what he calls their Gold Thread, so their message, offers, and visibility grow from something real. The result isn’t branding built to convince, but storytelling revealed to align.
  In our conversation, Gabriel shares the story of how a single reframe, from \"what do I sell?\" to \"what story am I living?\" transformed not just how one of his clients talked about her work, but how she felt doing it. We will also discuss the overall reframing of reclaiming the business space as sacred, working with the \"deeper voice\" of your story, and more. 
 
If you\'ve ever suspected your message isn\'t quite landing because it isn\'t quite you yet, this session is the one.   Find out more at https://goldthreadconsulting.com/ And: https://gabrielmarihugh.com/ 
  ✨ Please join us for this soul-nourishing interview with Gabe on Wednesday, March 25th at 12pm PST✨
In delight, Ariel  
   
END:VEVENT
END:VCALENDAR