BEGIN:VCALENDAR
VERSION:2.0
PRODID:-//Sanctuary of the 13 Moon Mystery School//Events//EN
CALSCALE:GREGORIAN
BEGIN:VEVENT
DTSTAMP:20260420T151934Z
DTSTART;TZID=America/Los_Angeles:20260512T120000
DTEND;TZID=America/Los_Angeles:20260512T130000
UID:69e64406df099
SUMMARY:THROUGH A WHALE\'S EYE: A MONTHLY MYSTICAL FILM DIVE
LOCATION:https://us02web.zoom.us/j/82077733336
DESCRIPTION:Beloved Community, Have you ever sensed that certain films carry codes of remembrance beneath their surface stories? That they serve not only as entertainment, but as portals into deeper awareness, collective archetypes, and soul evolution? We invite you to a new offering for 2026: Through a Whale’s Eye: Discovering the Larger Patterns Embedded in Film Like a sacred book club — but cinematic — this monthly Zoom gathering invites you to watch a film on your own beforehand, and then join a curated circle of consciousness explorers to dive beneath the surface. Each month, we’ll swim into the mythic, symbolic, and spiritual layers of a selected film — using the lens of expanded consciousness and archetypal mapping to uncover the deeper story beneath the story. Here are some of the questions we’ll explore together: What is this film really saying — beneath the surface? What initiatory or archetypal themes does it activate? How is it whispering (or roaring) to your soul’s journey? What shadows or luminous truths is it illuminating? What collective myths is it reinforcing — or rewriting? How is this film affecting the collective mind-field of Earth? And how might that be shaping our shared reality? This will be an interactive experience — not a passive webinar. You’ll be warmly invited to share your own insights, visions, and inner stirrings. We’re not just watching — we’re alchemizing meaning together. This is a space to train your vision to see “through the Whale’s eye” — vast, wise, and attuned to the unseen currents of collective transformation. Join us for our voyage:  Featured Film: The Man Who Knew Infinity \"An equation for me has no meaning, unless it represents a thought of God.\" —
Srinivasa Ramanujan This amazing film is a profound exploration of the intersection between intellectual genius and divine inspiration. The central spiritual conflict of the film lies between the Western empirical method (Hardy) and Ramanujan’s intuitive approach. Ramanujan famously claimed that his mathematical discoveries were given to him by his family goddess, Namagiri Thayar. True knowledge often arrives not through linear deduction, but through a \"quieting\"; of the mind and self to receive universal truths. When have you received an \"arrival\"; of information or a \"gut feeling\" that didn\'t come from logical thinking? How do you distinguish between your own ego\'s voice and a voice of higher wisdom or intuition? These are the kind of soul questions we are going to look deeply into at our next Through a Whales Eye film club circle. If you feel there are bigger patterns that underlie the structuring of our reality such as mathematics and sacred geometry, and further, that these patterns can be conveyed to humans by Divine archetypal energies that are part of that greater reality, join us for this exciting film exploration.  Date: Tuesday, May 12  Time: 12PM PST  Location: Zoom Bring your open heart, your notes, your questions, your wonder. This is not about critique — it’s about communion. Let us gather in the temple of shared vision — not to analyze, but to re-member. With joy and cinematic wonder, Ariel
END:VEVENT
END:VCALENDAR