BEGIN:VCALENDAR
VERSION:2.0
PRODID:-//Sanctuary of the 13 Moon Mystery School//Events//EN
CALSCALE:GREGORIAN
BEGIN:VEVENT
DTSTAMP:20260423T142249Z
DTSTART;TZID=America/Los_Angeles:20260501T113000
DTEND;TZID=America/Los_Angeles:20260501T123000
UID:69ea2b399c292
SUMMARY:BELTANE: Returning to the Song in the Blood
LOCATION:https://us02web.zoom.us/j/82400858479
DESCRIPTION:A Global Ritual for Sacred Union, Embodied Renewal, and the Blessing of the World Beloved Sanctuary Community, At this sacred Turn of the Wheel, we gather in the living field of Beltane—the season of fire, flowering, and the reawakening of life. This is a threshold where the pulse of creation becomes more visible…where warmth returns, where beauty begins to open, where the body remembers itself as part of the great movement of Nature. And in a time where much is being asked of the human heart, Beltane becomes not only celebration, but medicine. This is a ritual of return. A return to the body as living earth. A return to the warmth that moves beneath contraction. A return to the subtle song within—the current of life that continues to flow. Within this field, we enter the sacred meeting of polarities—the inner union of stillness and movement, of witnessing and feeling, of structure and receptivity. Through fire, breath, and embodied presence, we are invited to release what creates separation and remember ourselves in relationship—to life, to one another, and to the greater whole. From this place, the ritual opens into blessing—for the Earth, for the waters, for all beings moving through these times. Not as an idea, but as a lived,felt offering. Because at Beltane, life does not ask us to become something else—it asks us to come back into DEEPER RELATIONSHIP!. This ritual is offered in devotion by Ariel Spilsbury, Founder of the Sanctuary of the 13 Moon Mystery School, together with the Temple Keepers of the Sanctuary: Natalia Price, Sara Uma, and Argon Carrillo. A Note on Heart Donations This Beltane ritual is being offered in love and devotion, with a desire for accessibility and shared blessing. We warmly invite those who are able to offer a heart donation of $13, $22, or $33. Your contribution helps sustain this sacred work and honors the care, time, and presence being given to the creation of this offering. If financial resources are limited at this time, please still join us. This gathering remains open to all who feel called. A Note on RegistrationBy signing up for this gathering, you are also consenting to receive future email communications from the Sanctuary of the 13 Moon Mystery School and the Temple Keepers, including offerings, event invitations, and occasional updates. You may unsubscribe at any time if your path changes. What to Bring You are invited to prepare a simple ritual space: a candle a flower, leaf, or branch from the land your journal an anointing oil, if you have one a bowl of water (optional) You may also choose to wear red, pink, white, or green to align with the current of this turning. We welcome you to join us in this living ritual field as we honor the fire of Beltane and the song that still moves within the body of the world. May this gathering serve as a blessing to your own heart, to the Earth, and to the deeper relationship that is calling us home. Come as you are. In shared devotion, Ariel, Natalia, Uma, and Argon Sanctuary of the 13 Moon Mystery School
END:VEVENT
END:VCALENDAR